BEGIN:VCALENDAR
VERSION:2.0
PRODID:-//Palau Firal i de Congressos de Tarragona - ECPv6.0.8//NONSGML v1.0//EN
CALSCALE:GREGORIAN
METHOD:PUBLISH
X-ORIGINAL-URL:https://www.palautarragona.com
X-WR-CALDESC:Events for Palau Firal i de Congressos de Tarragona
REFRESH-INTERVAL;VALUE=DURATION:PT1H
X-Robots-Tag:noindex
X-PUBLISHED-TTL:PT1H
BEGIN:VTIMEZONE
TZID:Europe/Madrid
BEGIN:DAYLIGHT
TZOFFSETFROM:+0100
TZOFFSETTO:+0200
TZNAME:CEST
DTSTART:20230326T010000
END:DAYLIGHT
BEGIN:STANDARD
TZOFFSETFROM:+0200
TZOFFSETTO:+0100
TZNAME:CET
DTSTART:20231029T010000
END:STANDARD
END:VTIMEZONE
BEGIN:VEVENT
DTSTART;VALUE=DATE:20230517
DTEND;VALUE=DATE:20230520
DTSTAMP:20260420T113829
CREATED:20230131T133051Z
LAST-MODIFIED:20230420T153139Z
UID:11357-1684281600-1684540799@www.palautarragona.com
SUMMARY:7é CONGRÉS DE MANTENIMENT
DESCRIPTION:El 7º Congreso Español i 21º Iberoamericano de Mantenimiento se celebrarà els dies 17\, 18 i 19 de maig del 2023 al Palau Firal i de Congressos de Tarragona. \nMés informació en aquest enllaç.
URL:https://www.palautarragona.com/event/7e-congres-de-manteniment/
LOCATION:Palau Firal i de Congressos de Tarragona\, Carrer Arquitecte Rovira\, 2\, 43001 Tarragona\, Tarragona\, Catalunya\, 43001\, Spain
CATEGORIES:Esdeveniments destacats,Jornades i Congressos
ATTACH;FMTTYPE=image/png:https://www.palautarragona.com/wp-content/uploads/2023/01/congres.png
END:VEVENT
BEGIN:VEVENT
DTSTART;TZID=Europe/Madrid:20230517T200000
DTEND;TZID=Europe/Madrid:20230517T200000
DTSTAMP:20260420T113829
CREATED:20230511T091111Z
LAST-MODIFIED:20230511T091111Z
UID:11573-1684353600-1684353600@www.palautarragona.com
SUMMARY:NANO STERN
DESCRIPTION:Commemoració de l’assassinat de Víctor Jara\nTarragona ret homenatge el dimecres 17 de maig a Victor Jara en el 50è aniversari del seu assassinat amb un concert del cantautor xilè Nano Stern.  L’espectacle\, gratuït i d’entrada lliure\, serà a la Sala August del Palau de Congressos a les 20 h. \nEl reconegut artista xilè Nano Stern ha recorregut diferents escenaris com Paris\, Londres\, Amsterdam\, Roma\, Ginebra\, Barcelona\, Madrid i Stockholm tot homenatjant Victor Jara\, assassinat per la dictadura xilena fa 50 anys. Després del seu pas per Tarragona\, al juny clourà la seva gira a la seva terra natal\, Santiago de Xile. \nEl concert està organitzat per la conselleria de Nova Ciutadania de l’Ajuntament de Tarragona i compta amb la col·laboració de la Direcció General de Migracions\, Refugi i Antiracisme de la Generalitat de Catalunya i de l’Ambaixada Xilena a Espanya. \nAccés lliure limitat a l’aforament de la sala.
URL:https://www.palautarragona.com/event/nano-stern/
LOCATION:Palau Firal i de Congressos de Tarragona\, Carrer Arquitecte Rovira\, 2\, 43001 Tarragona\, Tarragona\, Catalunya\, 43001\, Spain
CATEGORIES:Activitats Culturals,Esdeveniments destacats
ATTACH;FMTTYPE=image/jpeg:https://www.palautarragona.com/wp-content/uploads/2023/05/nano-stern.jpeg
END:VEVENT
END:VCALENDAR