BEGIN:VCALENDAR
VERSION:2.0
PRODID:-//Palau Firal i de Congressos de Tarragona - ECPv6.0.8//NONSGML v1.0//EN
CALSCALE:GREGORIAN
METHOD:PUBLISH
X-WR-CALNAME:Palau Firal i de Congressos de Tarragona
X-ORIGINAL-URL:https://www.palautarragona.com
X-WR-CALDESC:Events for Palau Firal i de Congressos de Tarragona
REFRESH-INTERVAL;VALUE=DURATION:PT1H
X-Robots-Tag:noindex
X-PUBLISHED-TTL:PT1H
BEGIN:VTIMEZONE
TZID:Europe/Madrid
BEGIN:DAYLIGHT
TZOFFSETFROM:+0100
TZOFFSETTO:+0200
TZNAME:CEST
DTSTART:20220327T010000
END:DAYLIGHT
BEGIN:STANDARD
TZOFFSETFROM:+0200
TZOFFSETTO:+0100
TZNAME:CET
DTSTART:20221030T010000
END:STANDARD
END:VTIMEZONE
BEGIN:VEVENT
DTSTART;TZID=Europe/Madrid:20221127T170000
DTEND;TZID=Europe/Madrid:20221127T170000
DTSTAMP:20260424T115129
CREATED:20221019T090801Z
LAST-MODIFIED:20221124T090328Z
UID:10928-1669568400-1669568400@www.palautarragona.com
SUMMARY:COCO "RECUÉRDAME"
DESCRIPTION:La Companyia de Teatre Musical d’Espanya CTME\, amb el seu magnífic elenc artístic i una meravellosa posada en escena\, torna al Palau Firal i de Congressos de Tarragona. \nSota el nom “Recuérdame”\, el primer musical tribut a una de les pel·lícules més entranyables dels últims anys “COCO”\, la qual es va inspirar en la festivitat mexicana del Dia de Morts i es va convertir en una de les pel·lícules animades més taquillera de la història\, a més d’aconseguir dos Òscars: a la millor pel·lícula animada i la millor cançó original. \nUn espectacle per a tots els públics\, que fa 4 anys que recorre els principals auditoris i teatres del país\, i que compta totes les seves funcions amb plens absoluts (més de 400.000 espectadors ja ho han gaudit). \nDurada aproximada: 75 mins.
URL:https://www.palautarragona.com/event/coco-recuerdame/
LOCATION:Palau Firal i de Congressos de Tarragona\, Carrer Arquitecte Rovira\, 2\, 43001 Tarragona\, Tarragona\, Catalunya\, 43001\, Spain
CATEGORIES:Activitats Culturals,Esdeveniments destacats
ATTACH;FMTTYPE=image/jpeg:https://www.palautarragona.com/wp-content/uploads/2022/09/COCO-EL-MUSICAL-cartel-con-logo-PALAU.jpg
END:VEVENT
END:VCALENDAR