BEGIN:VCALENDAR
VERSION:2.0
PRODID:-//Palau Firal i de Congressos de Tarragona - ECPv6.0.8//NONSGML v1.0//EN
CALSCALE:GREGORIAN
METHOD:PUBLISH
X-ORIGINAL-URL:https://www.palautarragona.com
X-WR-CALDESC:Events for Palau Firal i de Congressos de Tarragona
REFRESH-INTERVAL;VALUE=DURATION:PT1H
X-Robots-Tag:noindex
X-PUBLISHED-TTL:PT1H
BEGIN:VTIMEZONE
TZID:Europe/Madrid
BEGIN:DAYLIGHT
TZOFFSETFROM:+0100
TZOFFSETTO:+0200
TZNAME:CEST
DTSTART:20220327T010000
END:DAYLIGHT
BEGIN:STANDARD
TZOFFSETFROM:+0200
TZOFFSETTO:+0100
TZNAME:CET
DTSTART:20221030T010000
END:STANDARD
END:VTIMEZONE
BEGIN:VEVENT
DTSTART;TZID=Europe/Madrid:20221108T090000
DTEND;TZID=Europe/Madrid:20221108T140000
DTSTAMP:20260422T123140
CREATED:20221107T110158Z
LAST-MODIFIED:20221107T131106Z
UID:11038-1667898000-1667916000@www.palautarragona.com
SUMMARY:PARLEM DE SALUT MENTAL
DESCRIPTION:II Jornada de Reflexió: “Parlem de salut mental”\nLa intel·ligència emocional no se sol incloure als continguts dels currículums escolars. Però tot i això\, és un concepte indispensable perquè els infants\, adolescents i joves puguin ser escoltats i acompanyats en el seu dia a dia en les dificultats i incerteses que els planteja la vida. Els professionals que treballen amb ells fan d’agents transmissors i acompanyants d’aquesta intel·ligència. \nLa jornada pretén aprofundir en les estratègies que poden ser útils per a escoltar\, detectar i acompanyar el malestar i/o patiment emocional\, en la intervenció directa amb els infants\, adolescents i joves. \nS’adreça als professionals relacionats amb els infants i adolescents de tots els àmbits d’actuació (salut\, educació\, serveis socials\, capacitat diverses\, prevenció…)\, tant del sector públic com d’entitats.
URL:https://www.palautarragona.com/event/parlem-de-salut-mental/
LOCATION:Catalunya
CATEGORIES:Esdeveniments destacats,Jornades i Congressos
ATTACH;FMTTYPE=image/jpeg:https://www.palautarragona.com/wp-content/uploads/2022/11/Banner-Parlem-de-Salut-Mental-Jornada-1536x906-1.jpg
END:VEVENT
END:VCALENDAR