BEGIN:VCALENDAR
VERSION:2.0
PRODID:-//Palau Firal i de Congressos de Tarragona - ECPv6.0.8//NONSGML v1.0//EN
CALSCALE:GREGORIAN
METHOD:PUBLISH
X-ORIGINAL-URL:https://www.palautarragona.com
X-WR-CALDESC:Events for Palau Firal i de Congressos de Tarragona
REFRESH-INTERVAL;VALUE=DURATION:PT1H
X-Robots-Tag:noindex
X-PUBLISHED-TTL:PT1H
BEGIN:VTIMEZONE
TZID:Europe/Madrid
BEGIN:DAYLIGHT
TZOFFSETFROM:+0100
TZOFFSETTO:+0200
TZNAME:CEST
DTSTART:20220327T010000
END:DAYLIGHT
BEGIN:STANDARD
TZOFFSETFROM:+0200
TZOFFSETTO:+0100
TZNAME:CET
DTSTART:20221030T010000
END:STANDARD
BEGIN:DAYLIGHT
TZOFFSETFROM:+0100
TZOFFSETTO:+0200
TZNAME:CEST
DTSTART:20230326T010000
END:DAYLIGHT
BEGIN:STANDARD
TZOFFSETFROM:+0200
TZOFFSETTO:+0100
TZNAME:CET
DTSTART:20231029T010000
END:STANDARD
END:VTIMEZONE
BEGIN:VEVENT
DTSTART;TZID=Europe/Madrid:20221201T093000
DTEND;TZID=Europe/Madrid:20221201T093000
DTSTAMP:20260420T131816
CREATED:20221121T124139Z
LAST-MODIFIED:20221121T124306Z
UID:11146-1669887000-1669887000@www.palautarragona.com
SUMMARY:JORNADA CONNECT@
DESCRIPTION:Talent i innovació amb perspectiva de gènere.\nEl punt de trobada de l’Ocupació i l’Emprenedoria del Camp de Tarragona\, les Terres de l’Ebre i el Baix Penedès. \nLa cita té com a objectiu donar a conèixer i posar en valor els programes que desenvolupen\, en l’àmbit de l’Ocupació i l’Emprenedoria\, les entitats locals del Camp de Tarragona\, les Terres de l’Ebre i el Baix Penedès per a la seva població. Alhora\, es vol donar visibilitat a la comunitat emprenedora d’aquest territori mitjançant un espai de trobada i de networking\, que comptarà amb l’exposició d’experiències emprenedores\, on poder compartir contactes i fer sinergies. \nAixí mateix\, es realitzaran una taula rodona sobre “El futur en perspectiva de gènere” i es durà a terme un concurs de pitch entre les startups i empreses expositores de la jornada. \nInscriu-t’hi clicant aquí abans del 25 de novembre. \nMés informació: \nocupacioiemprenedoria@dipta.cat \no bé al telèfon 977 296 691 \nwww.dipta.cat/empren
URL:https://www.palautarragona.com/event/jornada-connect/
LOCATION:Palau Firal i de Congressos de Tarragona\, Carrer Arquitecte Rovira\, 2\, 43001 Tarragona\, Tarragona\, Catalunya\, 43001\, Spain
CATEGORIES:Esdeveniments destacats,Jornades i Congressos
ATTACH;FMTTYPE=image/jpeg:https://www.palautarragona.com/wp-content/uploads/2022/11/Programa_Jornada-Connect@-002-1.jpg
END:VEVENT
BEGIN:VEVENT
DTSTART;TZID=Europe/Madrid:20221203T170000
DTEND;TZID=Europe/Madrid:20221203T170000
DTSTAMP:20260420T131816
CREATED:20221019T085432Z
LAST-MODIFIED:20221110T093058Z
UID:10918-1670086800-1670086800@www.palautarragona.com
SUMMARY:EL MONAGUILLO "¿SOLO LO VEO YO?"
DESCRIPTION:A punt de fer 20 anys pujat als escenaris\, i el segueixen deixant… \nTorna Sergio Fernández “El Monaguillo” i fa parada a Tarragona. \nAmb un espectacle realment divertit\, no t’ho pots perdre! Els seus millors monòlegs\, antologia de les seves divertides reflexions\, i fins i tot un passeig per la seva infància amb les pel·lícules que més l’han marcat… Ballareu\, cantareu i serà una festa… o “¿solo lo veo yo?”\nPodríem dir-te que és el darrer espectacle d’El Monaguillo\, però no… Encara li queda molta hipoteca per pagar. Per això no t’ho pots perdre! \nTé més gana de comèdia que mai… L’has vist a El Hormiguero\, Me resbala\, El Desafío i molts programes més\, i ara el tindràs al seu espectacle i a l’abast de la mà. \nMàgia\, prestidigitació\, hipnosi… No fa res d’això\, però et prometem que riuràs! 100% Monaguillo per a tots els públics. \n \nDurada: 80 mins.
URL:https://www.palautarragona.com/event/el-monaguillo-solo-lo-veo-yo/
LOCATION:Palau Firal i de Congressos de Tarragona\, Carrer Arquitecte Rovira\, 2\, 43001 Tarragona\, Tarragona\, Catalunya\, 43001\, Spain
CATEGORIES:Activitats Culturals,Esdeveniments destacats
ATTACH;FMTTYPE=image/jpeg:https://www.palautarragona.com/wp-content/uploads/2022/09/MONAGUILLO-TARRAGONA_page-0001.jpg
END:VEVENT
BEGIN:VEVENT
DTSTART;TZID=Europe/Madrid:20221210T210000
DTEND;TZID=Europe/Madrid:20221210T210000
DTSTAMP:20260420T131816
CREATED:20221019T085118Z
LAST-MODIFIED:20221019T110727Z
UID:10913-1670706000-1670706000@www.palautarragona.com
SUMMARY:NIÑA PASTORI GIRA 2022
DESCRIPTION:Després de l’èxit de “Bajo tus alas”\, després d’un àlbum en directe tan enlluernador com “Realmente Volando”\, una exitosa Gira 25 anys amb totes les entrades esgotades i la publicació de Sigo Navegando (25 anys) que recull les seves millors cançons\, torna Niña Pastori\, un dels retorns més esperats de l’any. L’alquimista del nou flamenc anuncia les primeres dates de la seva Gira 2022 després del llançament de “Osú qué niña”\, primer avenç del que serà el seu nou àlbum inèdit. Una peça que respira pels quatre costats les essències de la de Sant Ferran\, pura energia Pastori\, amb un punt autobiogràfic d’una artista que va canviar de lloc les coses al panorama musical\, amb la seva irrupció a mitjans dels noranta. Des d’aquells anys\, el recorregut l’ha convertit en una de les artistes més respectades per diverses generacions\, una icona que ha conjugat com ningú el compromís innegociable de les seves arrels amb les músiques més actuals. Tradicional però al dia; autèntica\, espontània i sincera\, Niña Pastori presenta una nova gira que la portarà des del proper mes de juliol a recórrer tota la geografia espanyola.
URL:https://www.palautarragona.com/event/nina-pastori-gira-2022/
LOCATION:Palau Firal i de Congressos de Tarragona\, Carrer Arquitecte Rovira\, 2\, 43001 Tarragona\, Tarragona\, Catalunya\, 43001\, Spain
CATEGORIES:Activitats Culturals,Esdeveniments destacats
ATTACH;FMTTYPE=image/png:https://www.palautarragona.com/wp-content/uploads/2022/10/Nina-Pastori.png
END:VEVENT
BEGIN:VEVENT
DTSTART;VALUE=DATE:20221227
DTEND;VALUE=DATE:20230105
DTSTAMP:20260420T131816
CREATED:20221220T090617Z
LAST-MODIFIED:20221220T093146Z
UID:11211-1672099200-1672876799@www.palautarragona.com
SUMMARY:PARC DE NADAL 2022 - 2023
DESCRIPTION:Amb el lema “Tornar a estar a prop”\, el Parc Infantil de Nadal de Tarragona tornarà a obrir del 27 de desembre al 4 de gener al Palau Firal i de Congressos de Tarragona. Organitzat per l’Institut Municipal d’Educació de Tarragona (IMET) mitjançant el Club dels Tarragonins\, enguany el Parc recrea la ciutat de Tarragona: Una ciutat amb tots els seus barris plens d’activitats\, amb gent amable i pròxima.   \n\nHoraris   \n\n\nEl Parc estarà obert des del 27 de desembre al 4 de gener amb el següents horaris: \n\n\nEls dies 27\, 28\, 29 i 30 de desembre\, i els dies 2\, 3 i 4 de gener\, de les 10:30 h a les 14 h i de les 16:30 h a les 20 h.\nEl dia 31 de desembre\, de les 10:30 h a  les 14 h.\nEl dia 1 de gener\, de les 16:30 h a les 20 h.\n\nPreus \n\nAls matins: 3 € l’entrada general (de 2 a 17 anys); 2 € pels socis del Club dels Tarraconins i per les famílies nombroses o monoparentals; i 1 € pels adults acompanyants. \nA les tardes: 4 € pel públic general\, 3 € pels socis del Club dels Tarraconins i per les famílies nombroses o monoparentals i 1 € pels adults acompanyants.  Els menors de 2 anys\, els majors de 65 i les persones amb discapacitat hi podran accedir gratuïtament. \nFinalment\, els grups concertats amb reserva prèvia pagaran 2 € matí i tarda i també hi haurà l’abonament de 15 €.\n\nVenda d’entrades \nDe manera presencial el mateix dia a la taquilla del parc o a través d’aquest enllaç.
URL:https://www.palautarragona.com/event/parc-de-nadal-2022-2023/
LOCATION:Palau Firal i de Congressos de Tarragona\, Carrer Arquitecte Rovira\, 2\, 43001 Tarragona\, Tarragona\, Catalunya\, 43001\, Spain
CATEGORIES:Esdeveniments destacats,Fires
ATTACH;FMTTYPE=image/jpeg:https://www.palautarragona.com/wp-content/uploads/2022/12/Cartell-Parc-del-Nadal-2022.jpg
END:VEVENT
BEGIN:VEVENT
DTSTART;VALUE=DATE:20221228
DTEND;VALUE=DATE:20221231
DTSTAMP:20260420T131816
CREATED:20221213T084739Z
LAST-MODIFIED:20221213T084739Z
UID:11188-1672185600-1672444799@www.palautarragona.com
SUMMARY:TARRAGONA X-CLUB
DESCRIPTION:Venda privada de Munich i Duuo.\n28\, 29 i 30 de desembre de 2022. \nReserva la teva invitació a www.xclub.es. \nEntrada gratuïta amb aforament limitat. \n  \n 
URL:https://www.palautarragona.com/event/tarragona-x-club/
LOCATION:Palau Firal i de Congressos de Tarragona\, Carrer Arquitecte Rovira\, 2\, 43001 Tarragona\, Tarragona\, Catalunya\, 43001\, Spain
CATEGORIES:Esdeveniments destacats,Fires
ATTACH;FMTTYPE=image/jpeg:https://www.palautarragona.com/wp-content/uploads/2022/12/X-CLUB-final_Corte-Insta-scaled.jpg
END:VEVENT
END:VCALENDAR