BEGIN:VCALENDAR
VERSION:2.0
PRODID:-//Palau Firal i de Congressos de Tarragona - ECPv6.0.8//NONSGML v1.0//EN
CALSCALE:GREGORIAN
METHOD:PUBLISH
X-ORIGINAL-URL:https://www.palautarragona.com
X-WR-CALDESC:Events for Palau Firal i de Congressos de Tarragona
REFRESH-INTERVAL;VALUE=DURATION:PT1H
X-Robots-Tag:noindex
X-PUBLISHED-TTL:PT1H
BEGIN:VTIMEZONE
TZID:Europe/Madrid
BEGIN:DAYLIGHT
TZOFFSETFROM:+0100
TZOFFSETTO:+0200
TZNAME:CEST
DTSTART:20220327T010000
END:DAYLIGHT
BEGIN:STANDARD
TZOFFSETFROM:+0200
TZOFFSETTO:+0100
TZNAME:CET
DTSTART:20221030T010000
END:STANDARD
END:VTIMEZONE
BEGIN:VEVENT
DTSTART;VALUE=DATE:20221104
DTEND;VALUE=DATE:20221106
DTSTAMP:20260422T103927
CREATED:20221013T041304Z
LAST-MODIFIED:20221030T131629Z
UID:10531-1667520000-1667692799@www.palautarragona.com
SUMMARY:REUNIÓ D'HIVERN DE LA SEPAR
DESCRIPTION:29 REUNIÓ D’HIVERN DE LA SOCIETAT ESPANYOLA DE NEUMOLOGIA Y CIRUGIA TORÀCICA\nLa Societat Espanyola de Neumologia i Cirurgia Toràcica (SEPAR) celebra les seves reunions d’hivern a Tarragona els propers 4 i 5 de novembre de 2022 i 10 i 11 de febrer de 2023.\nAquesta edició inclou les àrees d’Infermeria Respiratòria\, EPID\, MPOC\, EROM\, Tabaquisme\, TIR\, TRS-VMN-CRC\, i constitueix el fòrum ideal per a la participació dels socis de forma propera i pràctica\, tant a les sessions d’actualització científica com en el disseny\, desenvolupament i exposició dels projectes cooperatius\, científics i formatius de la SEPAR. \nMés informació i inscripcions en aquest enllaç.
URL:https://www.palautarragona.com/event/reunio-dhivern-de-la-separ/
LOCATION:Palau Firal i de Congressos de Tarragona\, Carrer Arquitecte Rovira\, 2\, 43001 Tarragona\, Tarragona\, Catalunya\, 43001\, Spain
CATEGORIES:Esdeveniments destacats,Jornades i Congressos
ATTACH;FMTTYPE=image/png:https://www.palautarragona.com/wp-content/uploads/2022/10/2211_SEPAR.png
END:VEVENT
BEGIN:VEVENT
DTSTART;TZID=Europe/Madrid:20221108T090000
DTEND;TZID=Europe/Madrid:20221108T140000
DTSTAMP:20260422T103927
CREATED:20221107T110158Z
LAST-MODIFIED:20221107T131106Z
UID:11038-1667898000-1667916000@www.palautarragona.com
SUMMARY:PARLEM DE SALUT MENTAL
DESCRIPTION:II Jornada de Reflexió: “Parlem de salut mental”\nLa intel·ligència emocional no se sol incloure als continguts dels currículums escolars. Però tot i això\, és un concepte indispensable perquè els infants\, adolescents i joves puguin ser escoltats i acompanyats en el seu dia a dia en les dificultats i incerteses que els planteja la vida. Els professionals que treballen amb ells fan d’agents transmissors i acompanyants d’aquesta intel·ligència. \nLa jornada pretén aprofundir en les estratègies que poden ser útils per a escoltar\, detectar i acompanyar el malestar i/o patiment emocional\, en la intervenció directa amb els infants\, adolescents i joves. \nS’adreça als professionals relacionats amb els infants i adolescents de tots els àmbits d’actuació (salut\, educació\, serveis socials\, capacitat diverses\, prevenció…)\, tant del sector públic com d’entitats.
URL:https://www.palautarragona.com/event/parlem-de-salut-mental/
LOCATION:Catalunya
CATEGORIES:Esdeveniments destacats,Jornades i Congressos
ATTACH;FMTTYPE=image/jpeg:https://www.palautarragona.com/wp-content/uploads/2022/11/Banner-Parlem-de-Salut-Mental-Jornada-1536x906-1.jpg
END:VEVENT
BEGIN:VEVENT
DTSTART;TZID=Europe/Madrid:20221113T090000
DTEND;TZID=Europe/Madrid:20221113T190000
DTSTAMP:20260422T103927
CREATED:20221030T121209Z
LAST-MODIFIED:20221113T111425Z
UID:10989-1668330000-1668366000@www.palautarragona.com
SUMMARY:MR & MISS UNIVERSE 2022
DESCRIPTION:El WABBA INTERNATIONAL MR & MISS UNIVERSE\, ha crescut ràpidament en popularitat fins a convertir-se en un dels principals esdeveniments de culturisme del món. Molts grans campions de talla internacional han iniciat les seves carreres dins de WABBA per convertir-se en llegendes d’aquest esport. \nAvui WABBA INTERNATIONAL és un referent al món del culturisme modern. \nPer a més informació feu clic en aquest enllaç.
URL:https://www.palautarragona.com/event/mr-miss-universe-2022/
LOCATION:Palau Firal i de Congressos de Tarragona\, Carrer Arquitecte Rovira\, 2\, 43001 Tarragona\, Tarragona\, Catalunya\, 43001\, Spain
CATEGORIES:Activitats Culturals,Esdeveniments destacats
ATTACH;FMTTYPE=image/jpeg:https://www.palautarragona.com/wp-content/uploads/2022/10/poster-mr-universo.jpg
END:VEVENT
BEGIN:VEVENT
DTSTART;TZID=Europe/Madrid:20221117T093000
DTEND;TZID=Europe/Madrid:20221117T133000
DTSTAMP:20260422T103927
CREATED:20221116T103851Z
LAST-MODIFIED:20221116T105045Z
UID:11108-1668677400-1668691800@www.palautarragona.com
SUMMARY:UNIVERSITY DAY
DESCRIPTION:Fira d’universitats públiques i privades de Catalunya\, València\, i la resta de l’Estat. \nConferències informatives i d’orientació universitària. \nActe privat amb inscripció prèvia. \nMés informació a www.universityday.es
URL:https://www.palautarragona.com/event/university-day/
LOCATION:Palau Firal i de Congressos de Tarragona\, Carrer Arquitecte Rovira\, 2\, 43001 Tarragona\, Tarragona\, Catalunya\, 43001\, Spain
CATEGORIES:Esdeveniments destacats,Fires
ATTACH;FMTTYPE=image/jpeg:https://www.palautarragona.com/wp-content/uploads/2022/11/logo-universityday-ok-scaled.jpg
END:VEVENT
BEGIN:VEVENT
DTSTART;TZID=Europe/Madrid:20221119T213000
DTEND;TZID=Europe/Madrid:20221119T213000
DTSTAMP:20260422T103927
CREATED:20221013T041635Z
LAST-MODIFIED:20221116T103436Z
UID:10533-1668893400-1668893400@www.palautarragona.com
SUMMARY:CAMELA
DESCRIPTION:Camela ha marcat la manera de veure\, sentir i gaudir la música pop\, ha polvoritzat qualsevol teoria dels entesos en la matèria\, la sociologia musical i les tribus urbanes. Com sense voler\, Camela va arribar un dia per quedar-se\, com a abanderats d’una música autèntica feta des del cor\, música del poble i pel poble. I 25 anys després de la seva fundació segueixen allà\, al capdamunt. \nA tots ens vénen a la memòria melodies inconfusibles que tenen el segell d’aquest magnífic grup que un dia ens va sorprendre amb les cançons i els ritmes. \n \n  \n  \n  \n  \n 
URL:https://www.palautarragona.com/event/camela/
LOCATION:Palau Firal i de Congressos de Tarragona\, Carrer Arquitecte Rovira\, 2\, 43001 Tarragona\, Tarragona\, Catalunya\, 43001\, Spain
CATEGORIES:Activitats Culturals,Esdeveniments destacats
ATTACH;FMTTYPE=image/jpeg:https://www.palautarragona.com/wp-content/uploads/2022/05/CAMELA-TARRAGONA-1.jpg
END:VEVENT
BEGIN:VEVENT
DTSTART;TZID=Europe/Madrid:20221120T190000
DTEND;TZID=Europe/Madrid:20221120T190000
DTSTAMP:20260422T103927
CREATED:20221013T042115Z
LAST-MODIFIED:20221116T093229Z
UID:10535-1668970800-1668970800@www.palautarragona.com
SUMMARY:EL TRENCANOUS | INTERNATIONAL BALLET COMPANY
DESCRIPTION:Enamora’t del Ballet amb el Trencanous\, una obra màgica interpretada per la prestigiosa International Ballet Company. \nGaudeix a més de grans descomptes amb els packs familiars (4 entrades) i les entrades per a grups (+12 persones).
URL:https://www.palautarragona.com/event/el-trencanous/
LOCATION:Palau Firal i de Congressos de Tarragona\, Carrer Arquitecte Rovira\, 2\, 43001 Tarragona\, Tarragona\, Catalunya\, 43001\, Spain
CATEGORIES:Activitats Culturals,Esdeveniments destacats
ATTACH;FMTTYPE=image/jpeg:https://www.palautarragona.com/wp-content/uploads/2022/08/Tarragona_CARTEL_Cascanueces_Baja-scaled.jpg
END:VEVENT
BEGIN:VEVENT
DTSTART;TZID=Europe/Madrid:20221126T183000
DTEND;TZID=Europe/Madrid:20221126T200000
DTSTAMP:20260422T103927
CREATED:20221111T082813Z
LAST-MODIFIED:20221121T111118Z
UID:11048-1669487400-1669492800@www.palautarragona.com
SUMMARY:EL SO DE LA PAU
DESCRIPTION:La cobla Maricel ofereix el concert “El So de la Pau” per a violoncel i cobla.\nEl So de la Pau és un concert amb música per a cobla i violoncel. Aquesta combinació no és nova\, però mai abans no s’havia presentat amb un guió que ressalta la música catalana del segle XX\, el segle de les grans guerres\, i el seu paper en la lluita per la pau.\n\nLa vida i l’obra de Pau Casals hi seran presents\, pel seu llegat com a violoncel·lista i pel seu activisme pacifista\, però també escoltarem partitures d’altres autors molt vinculats a la música popular\, com Enric Morera i Eduard Toldrà o d’altres més relacionats amb la música de concert\, com Joan Manén o Amadeu Vives. \n\n\nEntrada gratuïta amb invitació. Es poden recollir a les botigues J.Jordà (Av. Catalunya\, 22 baixos) i Saperas (c/ Sevilla\, 8)
URL:https://www.palautarragona.com/event/el-so-de-la-pau/
LOCATION:Palau Firal i de Congressos de Tarragona\, Carrer Arquitecte Rovira\, 2\, 43001 Tarragona\, Tarragona\, Catalunya\, 43001\, Spain
CATEGORIES:Activitats Culturals,Esdeveniments destacats
ATTACH;FMTTYPE=image/png:https://www.palautarragona.com/wp-content/uploads/2022/11/EL-so-de-la-Pau_cartell-A3_Mesa-de-trabajo-1-e1668155367910.png
END:VEVENT
BEGIN:VEVENT
DTSTART;TZID=Europe/Madrid:20221127T170000
DTEND;TZID=Europe/Madrid:20221127T170000
DTSTAMP:20260422T103927
CREATED:20221019T090801Z
LAST-MODIFIED:20221124T090328Z
UID:10928-1669568400-1669568400@www.palautarragona.com
SUMMARY:COCO "RECUÉRDAME"
DESCRIPTION:La Companyia de Teatre Musical d’Espanya CTME\, amb el seu magnífic elenc artístic i una meravellosa posada en escena\, torna al Palau Firal i de Congressos de Tarragona. \nSota el nom “Recuérdame”\, el primer musical tribut a una de les pel·lícules més entranyables dels últims anys “COCO”\, la qual es va inspirar en la festivitat mexicana del Dia de Morts i es va convertir en una de les pel·lícules animades més taquillera de la història\, a més d’aconseguir dos Òscars: a la millor pel·lícula animada i la millor cançó original. \nUn espectacle per a tots els públics\, que fa 4 anys que recorre els principals auditoris i teatres del país\, i que compta totes les seves funcions amb plens absoluts (més de 400.000 espectadors ja ho han gaudit). \nDurada aproximada: 75 mins.
URL:https://www.palautarragona.com/event/coco-recuerdame/
LOCATION:Palau Firal i de Congressos de Tarragona\, Carrer Arquitecte Rovira\, 2\, 43001 Tarragona\, Tarragona\, Catalunya\, 43001\, Spain
CATEGORIES:Activitats Culturals,Esdeveniments destacats
ATTACH;FMTTYPE=image/jpeg:https://www.palautarragona.com/wp-content/uploads/2022/09/COCO-EL-MUSICAL-cartel-con-logo-PALAU.jpg
END:VEVENT
END:VCALENDAR